BEGIN:VCALENDAR
VERSION:2.0
PRODID:-//Musicist.co.za - ECPv6.15.20//NONSGML v1.0//EN
CALSCALE:GREGORIAN
METHOD:PUBLISH
X-WR-CALNAME:Musicist.co.za
X-ORIGINAL-URL:https://musicist.co.za
X-WR-CALDESC:Events for Musicist.co.za
REFRESH-INTERVAL;VALUE=DURATION:PT1H
X-Robots-Tag:noindex
X-PUBLISHED-TTL:PT1H
BEGIN:VTIMEZONE
TZID:Africa/Johannesburg
BEGIN:STANDARD
TZOFFSETFROM:+0200
TZOFFSETTO:+0200
TZNAME:SAST
DTSTART:20250101T000000
END:STANDARD
END:VTIMEZONE
BEGIN:VEVENT
DTSTART;TZID=Africa/Johannesburg:20260410T180000
DTEND;TZID=Africa/Johannesburg:20260410T233000
DTSTAMP:20260421T235956
CREATED:20260406T140759Z
LAST-MODIFIED:20260406T140759Z
UID:9382-1775844000-1775863800@musicist.co.za
SUMMARY:NU-BAM presents Not The Old One
DESCRIPTION:NU-BAM – Not The Old One \n10 April | 6PM – 12AM | Happyville\, Parkhurst \nAn intimate live music experience with rising Soweto trumpet player NU-BAM\, whose sound reimagines jazz for a new generation. \nBorn and raised in Dobsonville\, NU-BAM blends jazz with hip-hop\, neo-soul\, R&B\, and lo-fi influences\, crafting a style that feels both rooted in tradition and boldly forward-thinking. Not The Old One is a live performance statement\, reflecting a new era of young musicians expanding the boundaries of the genre. \nTaking place at Happyville in Parkhurst\, the evening transforms the space into a temporary listening room for live music\, community\, and cultural exchange. \nFeaturing: \n• Live performance by NU-BAM \n• Guest performance by Nandi Zulu \n• DJ set by Dindie \nFood and drinks will be available throughout the night.
URL:https://musicist.co.za/event/nu-bam-presents-not-the-old-one/
LOCATION:Happyville\, 65 6th St\, Parkhurst\, Johannesburg\, 2193\, South Africa
ATTACH;FMTTYPE=image/webp:https://musicist.co.za/wp-content/uploads/2026/04/00-NuBam-scaled.webp
END:VEVENT
BEGIN:VEVENT
DTSTART;TZID=Africa/Johannesburg:20260410T190000
DTEND;TZID=Africa/Johannesburg:20260410T230000
DTSTAMP:20260421T235956
CREATED:20260406T142742Z
LAST-MODIFIED:20260406T142742Z
UID:9398-1775847600-1775862000@musicist.co.za
SUMMARY:African Strings Festival
DESCRIPTION:African Strings Festival is a glamorous celebration of all that is African\, contributing\nto the preservation of culture\, heritage\, and diversity. It is a prestigious African Music\nFestival that embraces and respects Pan-African identity\, as reflected in its carefully\ncurated and dynamic line-up. The festival honours every musical cord of the African\nguitar — the timeless instrument that has shaped the continent’s sound and\nstorytelling tradition.
URL:https://musicist.co.za/event/african-strings-festival/
LOCATION:Playhouse Opera Theatre\, Anton Lembede St\, Durban Central\, Durban\, Kwa-Zulu Natal\, 4001\, South Africa
ATTACH;FMTTYPE=image/jpeg:https://musicist.co.za/wp-content/uploads/2026/04/00-African-Strings.jpg
END:VEVENT
BEGIN:VEVENT
DTSTART;TZID=Africa/Johannesburg:20260410T193000
DTEND;TZID=Africa/Johannesburg:20260410T230000
DTSTAMP:20260421T235956
CREATED:20260406T142226Z
LAST-MODIFIED:20260406T142226Z
UID:9392-1775849400-1775862000@musicist.co.za
SUMMARY:A Tribute to Hugh Masekela
DESCRIPTION:An unforgettable evening of music\, memory\, and celebration honoring the life and legacy of Hugh Masekela\, the legendary trumpeter\, composer\, and global freedom fighter whose sound became the heartbeat of South Africa’s liberation and joy. In collaboration with the Hugh Masekela Heritage Foundation\, this powerful tribute concert brings together an extraordinary lineup of artists whose voices and artistry reflect the richness\, resilience\, and evolution of African music. Folk icon Vusi Mahlasela lends his stirring vocals and storytelling spirit\, embodying the same unwavering commitment to justice and humanity that defined Masekela’s career.\nThe captivating\, contemporary grace of Zoe Modiga reinterprets Masekela’s timeless classics with depth. \nInternationally celebrated Afro-pop star Tresor brings a vibrant\, cross-continental energy that echoes Masekela’s pan-African vision\, while the harmonious voices of Baobab Sisters and the dynamic flair of iComplete infuse the evening with rhythm\, movement\, and celebration. This tribute journeys through Masekela’s most beloved works\, including the global collaborations alongside inspired reinterpretations that connect past and present. \nGenerations will meet\, Africa’s stories will be sung boldly as the spirit of Bra Hugh lives on in every note. More than a concert\, A Tribute to Hugh Masekela is a celebration of heritage\, collaborations\, and the enduring power of music to unite\, uplift\, and inspire.
URL:https://musicist.co.za/event/a-tribute-to-hugh-masekela-2/
LOCATION:Joburg Theatre\, 163 Civic Blvd\, Braamfontein\, Johannesburg\, Gauteng\, 2001\, South Africa
ATTACH;FMTTYPE=image/jpeg:https://musicist.co.za/wp-content/uploads/2026/04/00-Hugh.jpg
END:VEVENT
END:VCALENDAR